BEGIN:VCALENDAR
VERSION:2.0
PRODID:-//ChamberMaster//Event Calendar 2.0//EN
METHOD:PUBLISH
X-PUBLISHED-TTL:P3D
REFRESH-INTERVAL:P3D
CALSCALE:GREGORIAN
BEGIN:VEVENT
DTSTART:20230530T153000Z
DTEND:20230530T160000Z
X-MICROSOFT-CDO-ALLDAYEVENT:FALSE
SUMMARY:Ribbon Cutting - PerdidoBlane Outfitters\, LLC
DESCRIPTION:Join us in welcoming PerdidoBlane Outfitters\, LLC to the PKACC family with a ribbon-cutting ceremony at the Perdido Key Area Chamber Offices\, 15500 Perdido Key Drive\, Perdido Key\, FL!\n\n\n\nCheck out their listing - https://business.perdidochamber.com/list/member/perdidoblane-outfitters-llc-3824\n\n\n\nCatch the action on the Perdido Chamber of Commerce Facebook page @PerdidoChamber.
X-ALT-DESC;FMTTYPE=text/html:Join us in welcoming PerdidoBlane Outfitters\, LLC to the PKACC family with a ribbon-cutting ceremony at the Perdido Key Area Chamber Offices\, 15500 Perdido Key Drive\, Perdido Key\, FL!<br />\n<br />\nCheck out their listing -&nbsp\;https://business.perdidochamber.com/list/member/perdidoblane-outfitters-llc-3824<br />\n<br />\nCatch the action on the Perdido Chamber of Commerce Facebook page @PerdidoChamber.
LOCATION:15500 Perdido Key Drive Perdido Key\, Florida 32507
UID:e.2644.34148
SEQUENCE:3
DTSTAMP:20260425T112221Z
URL:https://business.perdidochamber.com/events/details/ribbon-cutting-perdidoblane-outfitters-llc-34148
END:VEVENT

END:VCALENDAR
