BEGIN:VCALENDAR
VERSION:2.0
PRODID:-//ChamberMaster//Event Calendar 2.0//EN
METHOD:PUBLISH
X-PUBLISHED-TTL:P3D
REFRESH-INTERVAL:P3D
CALSCALE:GREGORIAN
BEGIN:VEVENT
DTSTART:20250323T150000Z
DTEND:20250323T200000Z
X-MICROSOFT-CDO-ALLDAYEVENT:FALSE
SUMMARY:Save Underdogs Plants for Pups
DESCRIPTION:5th Annual Community Plant Sale to benefit Save Underdogs\, LLC.\n\n\n\nFeatures heirloom\, heritage and unique varieties of herbs\, flowers and vegetables.  \n\nAll plants grown responsibly and conscientiously and provided by 4 local growers.\n\nCute Yard Art Available\n\nAll profits go to Save Underdogs\, LLC
X-ALT-DESC;FMTTYPE=text/html:<span style="font-size:14px"><span style="font-family:arial\,helvetica\,sans-serif">5th Annual Community Plant Sale to benefit Save Underdogs\, LLC.<br />\n<br />\nFeatures heirloom\, heritage and unique varieties&nbsp\;of herbs\, flowers and vegetables.&nbsp\;&nbsp\;<br />\nAll plants grown responsibly and conscientiously and provided by 4 local growers.<br />\nCute Yard Art Available<br />\nAll profits go to Save Underdogs\, LLC<br />\n&nbsp\;</span></span><br />\n&nbsp\;
LOCATION:Perdido Key Sports Bar 13583 Perdido Key Dr
UID:e.2644.38854
SEQUENCE:3
DTSTAMP:20260423T022703Z
URL:https://business.perdidochamber.com/events/details/save-underdogs-plants-for-pups-38854
END:VEVENT

END:VCALENDAR
