BEGIN:VCALENDAR
VERSION:2.0
PRODID:-//ChamberMaster//Event Calendar 2.0//EN
METHOD:PUBLISH
X-PUBLISHED-TTL:P3D
REFRESH-INTERVAL:P3D
CALSCALE:GREGORIAN
BEGIN:VEVENT
DTSTART:20251123T160000Z
DTEND:20251123T190000Z
X-MICROSOFT-CDO-ALLDAYEVENT:FALSE
SUMMARY:Save Underdogs Santa Paws Picture Day
DESCRIPTION:Bring your pets and have a picture with Santa!   This year's Santa will be a beachy theme.   100% of the proceeds will benefit Save Underdogs LLC\, a local non-profit 501(c)3 dedicated to Rescuing\, Rehabilitating and Rehoming abused and abandoned dogs.
X-ALT-DESC;FMTTYPE=text/html:<span style="font-size:14px"><span style="font-family:arial\,helvetica\,sans-serif">Bring your pets and have a picture with Santa!&nbsp\; &nbsp\;This year&#39\;s Santa will be a beachy theme.&nbsp\; &nbsp\;100% of the proceeds will benefit Save&nbsp\;Underdogs LLC\, a local non-profit 501(c)3 dedicated to Rescuing\, Rehabilitating and Rehoming abused and abandoned dogs.&nbsp\;&nbsp\;</span></span>
LOCATION:Perdido Key Sports Bar
UID:e.2644.39701
SEQUENCE:3
DTSTAMP:20260424T085347Z
URL:https://business.perdidochamber.com/events/details/save-underdogs-santa-paws-picture-day-11-23-2025-39701
END:VEVENT

END:VCALENDAR
