BEGIN:VCALENDAR
VERSION:2.0
PRODID:-//ChamberMaster//Event Calendar 2.0//EN
METHOD:PUBLISH
X-PUBLISHED-TTL:P3D
REFRESH-INTERVAL:P3D
CALSCALE:GREGORIAN
BEGIN:VEVENT
DTSTART:20220929T163000Z
DTEND:20220929T180000Z
X-MICROSOFT-CDO-ALLDAYEVENT:FALSE
SUMMARY:September 2022 Networking Luncheon with the Perdido Area Chamber
DESCRIPTION:Join the Perdido Key Area Chamber of Commerce for a Networking Lunch.\n\n\n\nJoin us as a Chamber member or a prospective member to network with business professionals in the Perdido Key Area.  Make sure to bring plenty of business cards.\n\n\n\nThis month's luncheon will be held at: \n\n\n\nSeagrass Village Gulf Shores\n\nFor this month's Luncheon\, the Chefs at Seagrass Village will be preparing a delicious meal at no charge to attendees!\n\n\n\nPlease RSVP using the "Register " button so that our host venue can prepare accordingly
X-ALT-DESC;FMTTYPE=text/html:<br />\n<br />\nJoin the Perdido Key Area Chamber of Commerce for a Networking Lunch.<br />\n<br />\nJoin us as a Chamber member or a prospective member to network with business professionals in the Perdido Key Area.&nbsp\; Make sure to bring plenty of business cards.<br />\n<br />\nThis month&#39\;s luncheon will be held at:&nbsp\;<br />\n<br />\nSeagrass Village Gulf Shores<br />\nFor this month&#39\;s Luncheon\, the Chefs at Seagrass Village will be preparing a delicious meal at no charge to attendees!<br />\n<br />\nPlease RSVP using the &quot\;Register &quot\; button so that our host venue can prepare accordingly
LOCATION:Seagrass Village Gulf Shores 21298 Cotton Creek Dr. Gulf Shores AL 36542
UID:e.2644.33471
SEQUENCE:3
DTSTAMP:20260426T010912Z
URL:https://business.perdidochamber.com/events/details/september-2022-networking-luncheon-with-the-perdido-area-chamber-33471
END:VEVENT

END:VCALENDAR
