BEGIN:VCALENDAR
VERSION:2.0
PRODID:-//ChamberMaster//Event Calendar 2.0//EN
METHOD:PUBLISH
X-PUBLISHED-TTL:P3D
REFRESH-INTERVAL:P3D
CALSCALE:GREGORIAN
BEGIN:VEVENT
DTSTART:20260412T003000Z
DTEND:20260412T023000Z
X-MICROSOFT-CDO-ALLDAYEVENT:FALSE
SUMMARY:SkynFolks: The Authentic Lynyrd Skynyrd Experience
DESCRIPTION:Get ready for a night of pure southern rock as SkynFolks bring The Authentic Lynyrd Skynyrd Experience to OWA Theater on April 11th! This high-energy tribute delivers the legendary sound\, unforgettable guitar solos\, and powerful vocals that made Lynyrd Skynyrd iconic.\n\nFrom crowd favorites like Sweet Home Alabama and Simple Man to deep cuts that true fans love\, SkynFolks captures the heart\, soul\, and grit of Southern rock like no other.\n\nGrab your tickets\, gather your friends\, and turn it up loud  southern rock takes the OWA Theater stage!
X-ALT-DESC;FMTTYPE=text/html:<p>Get ready for a night of pure southern rock as SkynFolks bring The Authentic Lynyrd Skynyrd Experience to OWA Theater on April 11th! This high-energy tribute delivers the legendary sound\, unforgettable guitar solos\, and powerful vocals that made Lynyrd Skynyrd iconic.</p>\n\n<p>From crowd favorites like Sweet Home Alabama and Simple Man to deep cuts that true fans love\, SkynFolks captures the heart\, soul\, and grit of Southern rock like no other.</p>\n\n<p>Grab your tickets\, gather your friends\, and turn it up loud&hellip\; southern rock takes the OWA Theater stage!</p>\n
LOCATION:Location: OWA Theater
UID:e.2644.42216
SEQUENCE:3
DTSTAMP:20260421T155847Z
URL:https://business.perdidochamber.com/events/details/skynfolks-the-authentic-lynyrd-skynyrd-experience-42216
END:VEVENT

END:VCALENDAR
