BEGIN:VCALENDAR
VERSION:2.0
PRODID:-//ChamberMaster//Event Calendar 2.0//EN
METHOD:PUBLISH
X-PUBLISHED-TTL:P3D
REFRESH-INTERVAL:P3D
CALSCALE:GREGORIAN
BEGIN:VEVENT
DTSTART;VALUE=DATE:20260310
DTEND;VALUE=DATE:20260316
TRANSP:TRANSPARENT
X-MICROSOFT-CDO-ALLDAYEVENT:TRUE
SUMMARY:St. Patrick’s Day Party & March Madness Bracket Kickoff at ONECLUB
DESCRIPTION:Celebrate St. Patrick's Day and kick off March Madness all in one place at ONECLUB in Gulf Shores\, AL on Sunday\, March 15th! Start your day with our Sunday Scramble at 9AM\, then stick around as we launch our 2026 March Madness Bracket Challenge and St. Patty's Day celebration across our entire campus   featuring golf\, bar\, pools\, giant outdoor screens\, and Gulf Coast vibes all day long.\n\n?? St. Patrick's Day Specials:\n\n  FREE burger with purchase of a drink\n\n  45% off all merchandise\n\n  Happy Hour ALL day   $2.75 beers\, $3.75 wines\, $4.75 wells\n\n  Outdoor grilling\n\n  Live bagpipers at 6PM\n\n  Dog-friendly & family-friendly atmosphere\n\n \n\n?? March Madness Bracket Challenge 2026:\n\n  Open to everyone\n\n  $15 entry fee per bracket\n\n  Estimated $1\,500 prize pool (distributed via prizes or gift cards)\n\n  1st Place   70%\n\n  2nd Place   20%\n\n  3rd Place   10%\n\n  Submit picks at the Pro Shop before Sunday\, March 15th\n\nWe'll be gathering to watch the matchups\, talk picks and plays\, and celebrate in true coastal style.
X-ALT-DESC;FMTTYPE=text/html:<p><span class="marker">Celebrate St. Patrick&rsquo\;s Day and kick off March Madness all in one place at <a href="chatgpt://generic-entity?number=0"><span style="color:rgb(0\, 0\, 238)">ONECLUB</span></a> in Gulf Shores\, AL on Sunday\, March 15th! Start your day with our Sunday Scramble at 9AM\, then stick around as we launch our 2026 March Madness Bracket Challenge and St. Patty&rsquo\;s Day celebration across our entire campus &mdash\; featuring golf\, bar\, pools\, giant outdoor screens\, and Gulf Coast vibes all day long.</span></p>\n\n<p><strong><span style="font-size:10px">?? St. Patrick&rsquo\;s Day Specials:</span></strong></p>\n\n<p><strong><span style="font-size:10px">&bull\; FREE burger with purchase of a drink</span></strong></p>\n\n<p><strong><span style="font-size:10px">&bull\; 45% off all merchandise</span></strong></p>\n\n<p><strong><span style="font-size:10px">&bull\; Happy Hour ALL day &ndash\; $2.75 beers\, $3.75 wines\, $4.75 wells</span></strong></p>\n\n<p><strong><span style="font-size:10px">&bull\; Outdoor grilling</span></strong></p>\n\n<p><strong><span style="font-size:10px">&bull\; Live bagpipers at 6PM</span></strong></p>\n\n<p><strong><span style="font-size:10px">&bull\; Dog-friendly &amp\; family-friendly atmosphere</span></strong></p>\n\n<p>&nbsp\;</p>\n\n<p><strong><span style="font-size:10px">?? March Madness Bracket Challenge 2026:</span></strong></p>\n\n<p><strong><span style="font-size:10px">&bull\; Open to everyone</span></strong></p>\n\n<p><strong><span style="font-size:10px">&bull\; $15 entry fee per bracket</span></strong></p>\n\n<p><strong><span style="font-size:10px">&bull\; Estimated $1\,500 prize pool (distributed via prizes or gift cards)</span></strong></p>\n\n<p><strong><span style="font-size:10px">&bull\; 1st Place &ndash\; 70%</span></strong></p>\n\n<p><strong><span style="font-size:10px">&bull\; 2nd Place &ndash\; 20%</span></strong></p>\n\n<p><strong><span style="font-size:10px">&bull\; 3rd Place &ndash\; 10%</span></strong></p>\n\n<p><strong><span style="font-size:10px">&bull\; Submit picks at the Pro Shop before Sunday\, March 15th</span></strong></p>\n\n<p>We&rsquo\;ll be gathering to watch the matchups\, talk picks and plays\, and celebrate in true coastal style.</p>\n
LOCATION:Join us at 4500 Gulf Shores Parkway\, Gulf Shores\, AL. For more information\, call 617-233-9880.
UID:e.2644.42215
SEQUENCE:3
DTSTAMP:20260422T154348Z
URL:https://business.perdidochamber.com/events/details/st-patrick-s-day-party-march-madness-bracket-kickoff-at-oneclub-42215
END:VEVENT

END:VCALENDAR
