BEGIN:VCALENDAR
VERSION:2.0
PRODID:-//ChamberMaster//Event Calendar 2.0//EN
METHOD:PUBLISH
X-PUBLISHED-TTL:P3D
REFRESH-INTERVAL:P3D
CALSCALE:GREGORIAN
BEGIN:VEVENT
DTSTART:20260314T150000Z
DTEND:20260314T210000Z
X-MICROSOFT-CDO-ALLDAYEVENT:FALSE
SUMMARY:St. Pawtty’s Day
DESCRIPTION:Celebrate St. Pawtty's Day with your pup at Downtown OWA on March 24th! This festive\, family-friendly event is packed with tail-wagging fun and plenty of ways for your four-legged friends to shine. Test your pup's speed at the Zoomies at the Rainbow Dog Obstacle Course\, roll through the Rollin' in the Green Golf Cart & Pet Parade\, and show off your dog's style and skills in the Emerald Dog Costume & Tricks Competition. Plus\, enjoy kids and pet crafts\, local pet vendors along Lucky Lease Lane\, and live DJ music throughout Downtown OWA. Registration for select activities is available online or in person on event day\, so grab something green\, bring your best furry friend\, and join the paw-ty for a shamrockin' good time!
X-ALT-DESC;FMTTYPE=text/html:Celebrate St. Pawtty&rsquo\;s Day with your pup at Downtown OWA on March 24th! This festive\, family-friendly event is packed with tail-wagging fun and plenty of ways for your four-legged friends to shine. Test your pup&rsquo\;s speed at the Zoomies at the Rainbow Dog Obstacle Course\, roll through the Rollin&rsquo\; in the Green Golf Cart &amp\; Pet Parade\, and show off your dog&rsquo\;s style and skills in the Emerald Dog Costume &amp\; Tricks Competition. Plus\, enjoy kids and pet crafts\, local pet vendors along Lucky Lease Lane\, and live DJ music throughout Downtown OWA. Registration for select activities is available online or in person on event day\, so grab something green\, bring your best furry friend\, and join the paw-ty for a shamrockin&rsquo\; good time!
LOCATION:Location: Downtown OWA
UID:e.2644.42211
SEQUENCE:3
DTSTAMP:20260422T154138Z
URL:https://business.perdidochamber.com/events/details/st-pawtty-s-day-42211
END:VEVENT

END:VCALENDAR
