BEGIN:VCALENDAR
VERSION:2.0
PRODID:-//ChamberMaster//Event Calendar 2.0//EN
METHOD:PUBLISH
X-PUBLISHED-TTL:P3D
REFRESH-INTERVAL:P3D
CALSCALE:GREGORIAN
BEGIN:VEVENT
DTSTART:20250315T000000Z
DTEND:20250315T010000Z
X-MICROSOFT-CDO-ALLDAYEVENT:FALSE
SUMMARY:Stoked Comedy Hypnosis Show - All Ages
DESCRIPTION:Join legendary hypnotist Terry Stokes for 60 minutes of hilarious antics and unbelievable hypnotism at the Stoked Comedy Hypnosis Show. One of the few shows where the audience is the "stars" of the show\, this unforgettable show is your opportunity to see or be seen! This is an adult show\, ages 18+. Performance contains adult language and adult situations.\n\n\n\nActivity Highlights\n\n  Unforgettable hypnotism and comedy show\n\n  Audience participation encouraged\n\n  No two shows are the same\n\n  Ideal activity for date night or group outing\n\n\n\n* Full-service alcoholic beverage menu will be available for purchase at additional costs
X-ALT-DESC;FMTTYPE=text/html:<span style="color:rgb(75\, 82\, 89)\; font-family:montserrat\,sans-serif\; font-size:18px">Join legendary hypnotist Terry Stokes for 60 minutes of hilarious antics and unbelievable hypnotism at the Stoked Comedy Hypnosis Show. One of the few shows where the audience is the &quot\;stars&quot\; of the show\, this unforgettable show is your opportunity to see or be seen! This is an adult show\, ages 18+. Performance contains adult language and adult situations.</span><br />\n<br />\n<span style="color:rgb(75\, 82\, 89)\; font-family:montserrat\,sans-serif\; font-size:18px"><u>Activity Highlights</u></span><br />\n<span style="color:rgb(75\, 82\, 89)\; font-family:montserrat\,sans-serif\; font-size:18px">&rarr\; Unforgettable hypnotism and comedy show</span><br />\n<span style="color:rgb(75\, 82\, 89)\; font-family:montserrat\,sans-serif\; font-size:18px">&rarr\; Audience participation encouraged</span><br />\n<span style="color:rgb(75\, 82\, 89)\; font-family:montserrat\,sans-serif\; font-size:18px">&rarr\; No two shows are the same</span><br />\n<span style="color:rgb(75\, 82\, 89)\; font-family:montserrat\,sans-serif\; font-size:18px">&rarr\; Ideal activity for date night or group outing</span><br />\n<br />\n<span style="color:rgb(75\, 82\, 89)\; font-family:montserrat\,sans-serif\; font-size:18px">* Full-service alcoholic beverage menu will be available for purchase at additional costs</span>
LOCATION:Brandon Styles Theater at OWA 1501 S. OWA Blvd.\, Foley\, AL 36535
UID:e.2644.36593
SEQUENCE:3
DTSTAMP:20260423T052443Z
URL:https://business.perdidochamber.com/events/details/stoked-comedy-hypnosis-show-all-ages-36593
END:VEVENT

END:VCALENDAR
