BEGIN:VCALENDAR
VERSION:2.0
PRODID:-//ChamberMaster//Event Calendar 2.0//EN
METHOD:PUBLISH
X-PUBLISHED-TTL:P3D
REFRESH-INTERVAL:P3D
CALSCALE:GREGORIAN
BEGIN:VEVENT
DTSTART:20251025T200000Z
DTEND:20251025T220000Z
X-MICROSOFT-CDO-ALLDAYEVENT:FALSE
SUMMARY:Sunset Grille Dog Walk 2025
DESCRIPTION:Bring your furry friend to Sunset Grille in Perdido Key\, Florida for their Annual Dog Walk!\n\nFor a casual one-mile walk starting at Sunset Grille\, walking down scenic Old River Road\, and finishing at the dog park on River Road (along the Intracoastal Waterway).\n\nAfter the walk\, stick around for a pet costume contest\, live festivities\, and the perfect ending to the day watching the sunset from your table at the Grille.\n\n100% of proceeds benefit Save Underdogs\, a local Perdido Key rescue and adoption organization dedicated to helping dogs find loving homes.
X-ALT-DESC;FMTTYPE=text/html:<p data-end="285" data-start="168">Bring your furry friend to<strong data-end="258" data-start="207">&nbsp\;Sunset Grille in Perdido Key\, Florida</strong> for their Annual Dog Walk!</p>\n\n<p data-end="582" data-start="287">For a&nbsp\;<strong data-end="359" data-start="335">casual one-mile walk</strong> starting at Sunset Grille\, walking down scenic Old River Road\, and finishing at the dog park on River Road (along the Intracoastal Waterway).</p>\n\n<p data-end="753" data-start="584">After the walk\, stick around for a <strong data-end="642" data-start="619">pet costume contest</strong>\, live festivities\, and the perfect ending to the day&mdash\;watching the sunset from your table at the Grille.</p>\n\n<p data-end="901" data-start="755"><strong data-end="800" data-start="757">100% of proceeds benefit Save Underdogs</strong>\, a local Perdido Key rescue and adoption organization dedicated to helping dogs find loving homes.</p>\n
LOCATION:Sunset Grille 14050 Canal A Way Drive\, Pensacola\, FL 32507
UID:e.2644.39478
SEQUENCE:3
DTSTAMP:20260424T102241Z
URL:https://business.perdidochamber.com/events/details/sunset-grille-dog-walk-2025-39478
END:VEVENT

END:VCALENDAR
