BEGIN:VCALENDAR
VERSION:2.0
PRODID:-//ChamberMaster//Event Calendar 2.0//EN
METHOD:PUBLISH
X-PUBLISHED-TTL:P3D
REFRESH-INTERVAL:P3D
CALSCALE:GREGORIAN
BEGIN:VEVENT
DTSTART:20230416T000000Z
DTEND:20230416T020000Z
X-MICROSOFT-CDO-ALLDAYEVENT:FALSE
SUMMARY:The Purple Madness — A Prince Tribute
DESCRIPTION:Head to OWA Theater on April 14 & 15 to see The Purple Madness   A Prince Tribute! The "Purple Madness" is the ultimate celebration of the most widely beloved entertainer and profoundly influential artist of all-time\, Prince. Bobby Miller presents an electrifying performance that can be best described as\, high energy and a "must see" performance.\n\nGrab your tickets now!\n\nThe Prince Purple Madness Tribute Show have all but perfected every nuance in recreating the sights and sounds of the artist Prince. The Production team consist of Bobby Miller as the artist\, backed by some of the most talented dancers and musicians that have toured the US and abroad. Collectively\, the team consists of over a 100 years of music experience. The group lovingly describes their show as a performance that is second to none.
X-ALT-DESC;FMTTYPE=text/html:<span style="color:black"><span style="font-family:calibri\,sans-serif"><span style="font-size:11pt">Head to OWA Theater on April 14 &amp\; 15 to see The Purple Madness &mdash\; A Prince Tribute! The &ldquo\;Purple Madness&rdquo\; is the ultimate celebration of the most widely beloved entertainer and profoundly influential artist of all-time\, Prince. Bobby Miller presents an electrifying performance that can be best described as\, high energy and a &ldquo\;must see&rdquo\; performance.</span></span></span><br />\n<span style="color:black"><span style="font-family:calibri\,sans-serif"><span style="font-size:11pt">Grab your tickets now!</span></span></span><br />\n<span style="color:black"><span style="font-family:calibri\,sans-serif"><span style="font-size:11pt">The Prince Purple Madness Tribute Show have all but perfected every nuance in recreating the sights and sounds of the artist Prince. The Production team consist of Bobby Miller as the artist\, backed by some of the most talented dancers and musicians that have toured the US and abroad. Collectively\, the team consists of over a 100 years of music experience. The group lovingly describes their show as a performance that is second to none.</span></span></span>
LOCATION:OWA Theater
UID:e.2644.33789
SEQUENCE:3
DTSTAMP:20260425T122508Z
URL:https://business.perdidochamber.com/events/details/the-purple-madness-a-prince-tribute-04-15-2023-33789
END:VEVENT

END:VCALENDAR
