BEGIN:VCALENDAR
VERSION:2.0
PRODID:-//ChamberMaster//Event Calendar 2.0//EN
METHOD:PUBLISH
X-PUBLISHED-TTL:P3D
REFRESH-INTERVAL:P3D
CALSCALE:GREGORIAN
BEGIN:VEVENT
DTSTART:20260222T210000Z
DTEND:20260222T220000Z
X-MICROSOFT-CDO-ALLDAYEVENT:FALSE
SUMMARY:Trip Down Memory Lane - Brandon Styles 1 Man\, 40 Voices
DESCRIPTION:Join Brandon Styles on select Sundays at 3:00 pm as he transports you back in time with a captivating performance that will make you reminisce. With his magical voice\, Brandon effortlessly sings songs from the 1950s to the 1970s\, representing a variety of iconic artists such as Frank Sinatra\, Tony Bennett\, Neil Diamond\, and Louis Armstrong\, among others. It's no wonder this show has been voted as the best date night experience on the Gulf Coast.\n\n\n\nThis show is family-friendly and there are no dress codes or age restrictions.
X-ALT-DESC;FMTTYPE=text/html:<span style="color:rgb(108\, 107\, 107)\; font-family:__montserrat_f56828\,__montserrat_fallback_f56828\; font-size:16px">Join Brandon Styles on select Sundays at 3:00 pm as he transports you back in time with a captivating performance that will make you reminisce. With his magical voice\, Brandon effortlessly sings songs from the 1950s to the 1970s\, representing a variety of iconic artists such as Frank Sinatra\, Tony Bennett\, Neil Diamond\, and Louis Armstrong\, among others. It&#39\;s no wonder this show has been voted as the best date night experience on the Gulf Coast.</span><br />\n<br />\n<span style="color:rgb(108\, 107\, 107)\; font-family:__montserrat_f56828\,__montserrat_fallback_f56828\; font-size:16px">This show is family-friendly and there are no dress codes or age restrictions.</span>
LOCATION:Brandon Styles Theater at OWA
UID:e.2644.39707
SEQUENCE:3
DTSTAMP:20260420T100207Z
URL:https://business.perdidochamber.com/events/details/trip-down-memory-lane-brandon-styles-1-man-40-voices-02-22-2026-39707
END:VEVENT

END:VCALENDAR
