BEGIN:VCALENDAR
VERSION:2.0
PRODID:-//ChamberMaster//Event Calendar 2.0//EN
METHOD:PUBLISH
X-PUBLISHED-TTL:P3D
REFRESH-INTERVAL:P3D
CALSCALE:GREGORIAN
BEGIN:VEVENT
DTSTART:20230610T150000Z
DTEND:20230611T030000Z
X-MICROSOFT-CDO-ALLDAYEVENT:FALSE
SUMMARY:Tropic Takeover 2 — A Super Smash Bros. Tournament
DESCRIPTION:Clash eSports & VR Center is hosting another huge Super Smash Bros. Tournament this June! Register today to save and get your name in the running for a $1000 guaranteed prize pool plus bonus prizes!\n\nThe event will be held on June 10\, with early check-in and friendlies (with pizza!) starting June 9 at 4pm. The event is located at The Bohemian: An Event Venue in Downtown OWA.\n\nRegister Today! https://www.start.gg/tournament/tropic-takeover-2-at-owa-parks-and-resort/details\n\nView Rules/Regulations\n\nhttps://docs.google.com/document/d/1rTDsXu9ikgJOwUUxnEMdiNIfampVNtwxV0KvJxrL3FU/edit?usp=sharing\n\n \n\nSchedule of Events\n\nFriday\, June 9\,2023\n\n	4-10pm Early Check-in\, Open Friendlies with pizza\, Squad Strike Tournament \n\n \n\nSaturday\, June 10\,2023\n\n \n\n	10am-11am Venue Opens\, Check-in\n	11:00am Doubles \n	1pm Singles Pools begin\n	5:30pm Singles top 8\n	8:30 Singles Finals\n	10pm Venue Closes
X-ALT-DESC;FMTTYPE=text/html:Clash eSports &amp\; VR Center is hosting another huge Super Smash Bros. Tournament this June! Register today to save and get your name in the running for a $1000 guaranteed prize pool plus bonus prizes!<br />\nThe event will be held on June 10\, with early check-in and friendlies (with pizza!) starting June 9 at 4pm. The event is located at The Bohemian: An Event Venue in Downtown OWA.<br />\n<strong>Register Today!</strong>&nbsp\;<a href="https://www.start.gg/tournament/tropic-takeover-2-at-owa-parks-and-resort/details">https://www.start.gg/tournament/tropic-takeover-2-at-owa-parks-and-resort/details</a><br />\n<strong>View Rules/Regulations</strong><br />\n<a href="https://docs.google.com/document/d/1rTDsXu9ikgJOwUUxnEMdiNIfampVNtwxV0KvJxrL3FU/edit?usp=sharing">https://docs.google.com/document/d/1rTDsXu9ikgJOwUUxnEMdiNIfampVNtwxV0KvJxrL3FU/edit?usp=sharing</a><br />\n&nbsp\;<br />\n<strong><span style="color:rgb(36\, 36\, 36)">Schedule of Events</span></strong><br />\n<strong><span style="color:rgb(36\, 36\, 36)">Friday\, June 9\,2023</span></strong>\n<ul>\n	<li><span style="color:rgb(36\, 36\, 36)">4-10pm Early Check-in\, Open Friendlies with pizza\, Squad Strike Tournament&nbsp\;</span></li>\n</ul>\n&nbsp\;<br />\n<strong><span style="color:rgb(36\, 36\, 36)">Saturday\, June 10\,2023</span></strong><br />\n&nbsp\;\n<ul>\n	<li><span style="color:rgb(36\, 36\, 36)">10am-11am Venue Opens\, Check-in</span></li>\n	<li><span style="color:rgb(36\, 36\, 36)">11:00am Doubles&nbsp\;</span></li>\n	<li>1pm Singles Pools begin</li>\n	<li><span style="color:rgb(36\, 36\, 36)">5:30pm Singles top 8</span></li>\n	<li><span style="color:rgb(36\, 36\, 36)">8:30 Singles Finals</span></li>\n	<li><span style="color:rgb(36\, 36\, 36)">10pm Venue Closes</span></li>\n</ul>\n&nbsp\;<br />\n&nbsp\;
LOCATION:The Bohemian
UID:e.2644.33805
SEQUENCE:3
DTSTAMP:20260425T105543Z
URL:https://business.perdidochamber.com/events/details/tropic-takeover-2-a-super-smash-bros-tournament-33805
END:VEVENT

END:VCALENDAR
