BEGIN:VCALENDAR
VERSION:2.0
PRODID:-//ChamberMaster//Event Calendar 2.0//EN
METHOD:PUBLISH
X-PUBLISHED-TTL:P3D
REFRESH-INTERVAL:P3D
CALSCALE:GREGORIAN
BEGIN:VEVENT
DTSTART:20251026T210000Z
DTEND:20251027T000000Z
X-MICROSOFT-CDO-ALLDAYEVENT:FALSE
SUMMARY:Trunk or Treat
DESCRIPTION:You're Invited to Trunk or Treat at Green Line Arms! Get ready for a night of candy\, costumes\, and community fun! This year we're teaming up with some amazing partners to make it bigger and better than ever!\n\n\n\nGreen Line Arms   hosting the event + opening our Virtual Range with a Pumpkin Shooter Challenge and Zombie Survival Game!\n\nCoastal Pop   mixing up spooky specialty sodas & Halloween treats!\n\nBig Moose BBQ   serving up delicious food hot off the smoker!\n\nVet Cola Foundation   sharing their mission while supporting our local military families.\n\nPlus: Trunk-to-trunk trick-or-treating\, games for kids of all ages\, and lots more spooky surprises to come! \n\n\n\n26 October - 4-7pm \n\nGreen Line Arms   1350 S. Blue Angel Parkway \n\nFREE | Open to ALL families (with a special salute to our military and first responder community)\n\nGrab your costumes\, bring the kids\, and join us for a safe & festive Halloween night!
X-ALT-DESC;FMTTYPE=text/html:You&rsquo\;re Invited to Trunk or Treat at Green Line Arms! Get ready for a night of candy\, costumes\, and community fun! This year we&rsquo\;re teaming up with some amazing partners to make it bigger and better than ever!<br />\n<br />\nGreen Line Arms &ndash\; hosting the event + opening our Virtual Range with a Pumpkin Shooter Challenge and Zombie Survival Game!<br />\nCoastal Pop &ndash\; mixing up spooky specialty sodas &amp\; Halloween treats!<br />\nBig Moose BBQ &ndash\; serving up delicious food hot off the smoker!<br />\nVet Cola Foundation &ndash\; sharing their mission while supporting our local military families.<br />\nPlus: Trunk-to-trunk trick-or-treating\, games for kids of all ages\, and lots more spooky surprises to come!&nbsp\;<br />\n<br />\n26 October - 4-7pm&nbsp\;<br />\nGreen Line Arms &ndash\; 1350 S. Blue Angel Parkway&nbsp\;<br />\nFREE | Open to ALL families (with a special salute to our military and first responder community)<br />\nGrab your costumes\, bring the kids\, and join us for a safe &amp\; festive Halloween night!&nbsp\;
LOCATION:1350 S. Blue Angel Parkway
UID:e.2644.39485
SEQUENCE:3
DTSTAMP:20260424T102154Z
URL:https://business.perdidochamber.com/events/details/trunk-or-treat-39485
END:VEVENT

END:VCALENDAR
