BEGIN:VCALENDAR
VERSION:2.0
PRODID:-//ChamberMaster//Event Calendar 2.0//EN
METHOD:PUBLISH
X-PUBLISHED-TTL:P3D
REFRESH-INTERVAL:P3D
CALSCALE:GREGORIAN
BEGIN:VEVENT
DTSTART:20240907T003000Z
DTEND:20240907T023000Z
X-MICROSOFT-CDO-ALLDAYEVENT:FALSE
SUMMARY:White Tie Rock Ensemble featuring Yacht Rock
DESCRIPTION:Rock the night away with White Tie Rock Ensemble at OWA Theater on September 6th & 7th at 7:30 pm for an epic performance   Yacht Rock! From the smooth\, soft rock sound of The Doobie Brothers to influences of Steely Dan\, TOTO\, Christopher Cross\, Hall & Oates\, Looking Glass\, & more! The show will be a smooth sail of your favorite soft rock hits of the 70s and 80s!                   Join us for two nights of legendary rock performance by White Tie Rock Ensemble on center stage. This performance will have you on your feet\, singing and rocking out to all your favorites.
X-ALT-DESC;FMTTYPE=text/html:Rock the night away with White Tie Rock Ensemble at OWA Theater on September 6th &amp\; 7th at 7:30 pm for an epic performance &mdash\; Yacht Rock! From the smooth\, soft rock sound of The Doobie Brothers to influences of Steely Dan\, TOTO\, Christopher Cross\, Hall &amp\; Oates\, Looking Glass\, &amp\; more! The show will be a smooth sail of your favorite soft rock hits of the 70s and 80s! &shy\;&shy\;&shy\;&shy\;&shy\;&shy\;&shy\;&shy\;&shy\;&shy\;&shy\;&shy\;&shy\;&shy\;&shy\;&shy\;&shy\;&shy\;Join us for two nights of legendary rock performance by White Tie Rock Ensemble on center stage. This performance will have you on your feet\, singing and rocking out to all your favorites.&nbsp\;
LOCATION:OWA Theater
UID:e.2644.35878
SEQUENCE:3
DTSTAMP:20260422T204157Z
URL:https://business.perdidochamber.com/events/details/white-tie-rock-ensemble-featuring-yacht-rock-35878
END:VEVENT

END:VCALENDAR
