BEGIN:VCALENDAR
VERSION:2.0
PRODID:-//ChamberMaster//Event Calendar 2.0//EN
METHOD:PUBLISH
X-PUBLISHED-TTL:P3D
REFRESH-INTERVAL:P3D
CALSCALE:GREGORIAN
BEGIN:VEVENT
DTSTART:20251016T233000Z
DTEND:20251017T020000Z
X-MICROSOFT-CDO-ALLDAYEVENT:FALSE
SUMMARY:Wine & Beer Dinner
DESCRIPTION:Come enjoy a four course seated dinner prepared by our amazing chefs in our beautiful Private Dining Room. Each meal will be paired with either a glass of wine or beer pairing. Now taking reservations for Thursday\, October 16th. Limited spots available. Dinner starts at 6:30 p.m.
X-ALT-DESC;FMTTYPE=text/html:Come enjoy a four course seated dinner prepared by our amazing chefs in our beautiful Private Dining Room. Each meal will be paired with either a glass of wine or beer pairing. Now taking reservations for Thursday\, October 16th. Limited spots available. Dinner starts at 6:30 p.m.
LOCATION:Cobalt the Restaurant
UID:e.2644.39480
SEQUENCE:3
DTSTAMP:20260424T101242Z
URL:https://business.perdidochamber.com/events/details/wine-beer-dinner-39480
END:VEVENT

END:VCALENDAR
