BEGIN:VCALENDAR
VERSION:2.0
PRODID:-//ChamberMaster//Event Calendar 2.0//EN
METHOD:PUBLISH
X-PUBLISHED-TTL:P3D
REFRESH-INTERVAL:P3D
CALSCALE:GREGORIAN
BEGIN:VEVENT
DTSTART:20231130T230000Z
DTEND:20231201T010000Z
X-MICROSOFT-CDO-ALLDAYEVENT:FALSE
SUMMARY:Women Mean Business Jingle Mingle
DESCRIPTION:Women Mean Business Jingle Mingle Holiday Party\n\nWomen Mean Business is a group within the Perdido Key Area Chamber of Commerce dedicated to creating a space for women entrepreneurs to engage\, uplift\, and encourage others by exchanging stories\, experiences\, and ideas. \n\n\n\n  Join Us for the Jingle Mingle Holiday Party   \n\nGet ready to dive into the spirit of the season at the Jingle Mingle Holiday Party at Sunset Grille. It's that wonderful time of year\, and we invite our wonderful ladies to a night of festive fun\, all while making a difference.\n\n\n\n  Benefitting Secret Santa Organization  \n\nIn the true spirit of giving\, the $10 entry fee and any additional donations will be dedicated to supporting the Secret Santa Organization with the Perdido Key Pirates of Lost Treasure. Secret Santa raises money throughout the year to help families and children at Christmas or when urgent medical and housing needs arise. During the holiday season they assist families with their holiday shopping for under-privileged families.  Let's come together to spread joy and help those in need during this special time.\n\n\n\n  Festive Attire Encouraged  \n\nDress to impress in your most festive holiday attire! Whether you're donning a cozy Christmas sweater\, a stylish cocktail dress\, or a snazzy suit\, let your holiday spirit shine through your outfit.\n\n\n\n  Ornament Swap  \n\nBring a touch of merriment to your own holiday decor with our ornament swap! Please bring a wrapped ornament to exchange with fellow partygoers. It's a delightful way to share in the spirit of giving and receive a special keepsake in return.
X-ALT-DESC;FMTTYPE=text/html:<div style="text-align: center\;"><span style="font-family:verdana\;"><span style="font-size:24px\;"><strong>Women Mean Business Jingle Mingle Holiday Party</strong></span><br />\n<span style="font-size:12px\;"><em>Women Mean Business is a group within the Perdido Key Area Chamber of Commerce&nbsp\;dedicated to creating a space for women entrepreneurs to engage\, uplift\, and encourage others by exchanging stories\, experiences\, and ideas.&nbsp\;</em></span><br />\n<br />\n<span style="font-size:14px\;"><strong>&#127881\; Join Us for the Jingle Mingle Holiday Party &#127876\;&#10024\;</strong><br />\nGet ready to dive into the spirit of the season at the Jingle Mingle Holiday Party at Sunset Grille. It&#39\;s that wonderful time of year\, and we invite our wonderful ladies&nbsp\;to a night of festive fun\, all while making a difference.<br />\n<br />\n&#127877\; <strong>Benefitting Secret Santa Organization</strong> &#129334\;<br />\nIn the true spirit of giving\,&nbsp\;the $10 entry fee and any additional donations will be dedicated to supporting the Secret Santa Organization with&nbsp\;the Perdido Key Pirates of Lost Treasure. <u>Secret Santa&nbsp\;raises money throughout the year to help families and children at Christmas or when urgent medical and housing needs arise. During the holiday season they assist families with their holiday shopping for under-privileged&nbsp\;families.</u>&nbsp\;&nbsp\;Let&#39\;s come together to spread joy and help those in need during this special time.<br />\n<br />\n<strong>&#128087\; Festive Attire Encouraged &#127775\;</strong><br />\nDress to impress in your most festive holiday attire! Whether you&#39\;re donning a cozy Christmas sweater\, a stylish cocktail dress\, or a snazzy suit\, let your holiday spirit shine through your outfit.<br />\n<br />\n&#127873\; <strong>Ornament Swap</strong> &#127876\;<br />\nBring a touch of merriment to your own holiday decor with our ornament swap! Please bring a wrapped ornament to exchange with fellow partygoers. It&#39\;s a delightful way to share in the spirit of giving and receive a special keepsake in return.</span></span></div>\n\n<div><br />\n&nbsp\;</div>\n
LOCATION:Sunset Grille 14050 Canal A Way Perdido Key\, FL 32507
UID:e.2644.34808
SEQUENCE:3
DTSTAMP:20260425T020754Z
URL:https://business.perdidochamber.com/events/details/women-mean-business-jingle-mingle-34808
END:VEVENT

END:VCALENDAR
