BEGIN:VCALENDAR
VERSION:2.0
PRODID:-//ChamberMaster//Event Calendar 2.0//EN
METHOD:PUBLISH
X-PUBLISHED-TTL:P3D
REFRESH-INTERVAL:P3D
CALSCALE:GREGORIAN
BEGIN:VEVENT
DTSTART:20240927T230000Z
DTEND:20240928T020000Z
X-MICROSOFT-CDO-ALLDAYEVENT:FALSE
SUMMARY:Zoo Brew: Sips for Simbas
DESCRIPTION:Join the Alabama Gulf Coast Zoo for this annual fundraiser for guests 21+. Zoo Brew is an incredible event beginning with after-hours access to the zoo\, beer tastings from over 20 vendors represented\, delicious food\, live entertainment by Red and the Revelers\, and meet & greets with your favorite animal ambassadors. All proceeds benefit the zoo's animal care\, enrichment\, educational programs\, and conservation efforts for Lion Guardians.
X-ALT-DESC;FMTTYPE=text/html:Join the Alabama Gulf Coast Zoo for this annual fundraiser for guests 21+. Zoo Brew is an incredible event beginning with after-hours access to the zoo\, beer tastings from over 20 vendors represented\, delicious food\, live entertainment by Red and the Revelers\, and meet &amp\; greets with your favorite animal ambassadors. All proceeds benefit the zoo&#39\;s animal care\, enrichment\, educational programs\, and conservation efforts for Lion Guardians.
LOCATION:Alabama Gulf Coast Zoo 20499 Oak Road East Gulf Shores\, AL 36542
UID:e.2644.37494
SEQUENCE:3
DTSTAMP:20260422T172018Z
URL:https://business.perdidochamber.com/events/details/zoo-brew-sips-for-simbas-37494
END:VEVENT

END:VCALENDAR
